BEGIN:VCALENDAR
VERSION:2.0
PRODID:-//E.C.S. FONTEVRAUD-MONTSOREAU - ECPv6.15.20//NONSGML v1.0//EN
CALSCALE:GREGORIAN
METHOD:PUBLISH
X-ORIGINAL-URL:https://ecsfontevraudmontsoreau.fr
X-WR-CALDESC:Évènements pour E.C.S. FONTEVRAUD-MONTSOREAU
REFRESH-INTERVAL;VALUE=DURATION:PT1H
X-Robots-Tag:noindex
X-PUBLISHED-TTL:PT1H
BEGIN:VTIMEZONE
TZID:Europe/Paris
BEGIN:DAYLIGHT
TZOFFSETFROM:+0100
TZOFFSETTO:+0200
TZNAME:CEST
DTSTART:20210328T010000
END:DAYLIGHT
BEGIN:STANDARD
TZOFFSETFROM:+0200
TZOFFSETTO:+0100
TZNAME:CET
DTSTART:20211031T010000
END:STANDARD
BEGIN:DAYLIGHT
TZOFFSETFROM:+0100
TZOFFSETTO:+0200
TZNAME:CEST
DTSTART:20220327T010000
END:DAYLIGHT
BEGIN:STANDARD
TZOFFSETFROM:+0200
TZOFFSETTO:+0100
TZNAME:CET
DTSTART:20221030T010000
END:STANDARD
BEGIN:DAYLIGHT
TZOFFSETFROM:+0100
TZOFFSETTO:+0200
TZNAME:CEST
DTSTART:20230326T010000
END:DAYLIGHT
BEGIN:STANDARD
TZOFFSETFROM:+0200
TZOFFSETTO:+0100
TZNAME:CET
DTSTART:20231029T010000
END:STANDARD
END:VTIMEZONE
BEGIN:VEVENT
DTSTART;TZID=Europe/Paris:20221102T140000
DTEND;TZID=Europe/Paris:20221102T170000
DTSTAMP:20260421T100729
CREATED:20220907T152332Z
LAST-MODIFIED:20221028T151254Z
UID:3810-1667397600-1667408400@ecsfontevraudmontsoreau.fr
SUMMARY:Sortie VTT Courchamps
DESCRIPTION:
URL:https://ecsfontevraudmontsoreau.fr/event/sortie-vtt-courchamps-2/
LOCATION:Courchamps\, Lavoir de la Fontaine Blanche\, Courchamps\, 49260\, France
CATEGORIES:Sorties VTT
END:VEVENT
BEGIN:VEVENT
DTSTART;TZID=Europe/Paris:20221109T140000
DTEND;TZID=Europe/Paris:20221109T170000
DTSTAMP:20260421T100729
CREATED:20220907T153133Z
LAST-MODIFIED:20220907T153133Z
UID:3812-1668002400-1668013200@ecsfontevraudmontsoreau.fr
SUMMARY:Sortie VTT Allonnes
DESCRIPTION:
URL:https://ecsfontevraudmontsoreau.fr/event/sortie-vtt-allonnes-2/
LOCATION:Allonnes\, Allonnes\, 49650\, France
CATEGORIES:Sorties VTT
END:VEVENT
BEGIN:VEVENT
DTSTART;TZID=Europe/Paris:20221116T140000
DTEND;TZID=Europe/Paris:20221116T170000
DTSTAMP:20260421T100729
CREATED:20220907T153602Z
LAST-MODIFIED:20220907T153648Z
UID:3815-1668607200-1668618000@ecsfontevraudmontsoreau.fr
SUMMARY:Sortie VTT Saint Cyr en Bourg
DESCRIPTION:
URL:https://ecsfontevraudmontsoreau.fr/event/sortie-vtt-saint-cyr-en-bourg/
LOCATION:Proxi\, Saint Cyr en Bourg\, 49400\, France
CATEGORIES:Sorties VTT
END:VEVENT
BEGIN:VEVENT
DTSTART;TZID=Europe/Paris:20221123T140000
DTEND;TZID=Europe/Paris:20221123T170000
DTSTAMP:20260421T100729
CREATED:20220907T153926Z
LAST-MODIFIED:20220907T154128Z
UID:3818-1669212000-1669222800@ecsfontevraudmontsoreau.fr
SUMMARY:Sortie VTT Bagneux
DESCRIPTION:
URL:https://ecsfontevraudmontsoreau.fr/event/sortie-vtt-bagneux/
LOCATION:Place de la Déportation\, Saumur\, 49400\, France
CATEGORIES:Sorties VTT
END:VEVENT
BEGIN:VEVENT
DTSTART;TZID=Europe/Paris:20221130T140000
DTEND;TZID=Europe/Paris:20221130T170000
DTSTAMP:20260421T100729
CREATED:20220907T154526Z
LAST-MODIFIED:20220907T154526Z
UID:3822-1669816800-1669827600@ecsfontevraudmontsoreau.fr
SUMMARY:Sortie VTT Montsoreau
DESCRIPTION:
URL:https://ecsfontevraudmontsoreau.fr/event/sortie-vtt-montsoreau/
LOCATION:Parking abri bus\, rue de la Goujonnière\, rue de la Goujonnière\, Couziers\, 37500\, France
CATEGORIES:Sorties VTT
END:VEVENT
END:VCALENDAR