BEGIN:VCALENDAR
VERSION:2.0
PRODID:-//E.C.S. FONTEVRAUD-MONTSOREAU - ECPv6.15.20//NONSGML v1.0//EN
CALSCALE:GREGORIAN
METHOD:PUBLISH
X-WR-CALNAME:E.C.S. FONTEVRAUD-MONTSOREAU
X-ORIGINAL-URL:https://ecsfontevraudmontsoreau.fr
X-WR-CALDESC:Évènements pour E.C.S. FONTEVRAUD-MONTSOREAU
REFRESH-INTERVAL;VALUE=DURATION:PT1H
X-Robots-Tag:noindex
X-PUBLISHED-TTL:PT1H
BEGIN:VTIMEZONE
TZID:Europe/Paris
BEGIN:DAYLIGHT
TZOFFSETFROM:+0100
TZOFFSETTO:+0200
TZNAME:CEST
DTSTART:20210328T010000
END:DAYLIGHT
BEGIN:STANDARD
TZOFFSETFROM:+0200
TZOFFSETTO:+0100
TZNAME:CET
DTSTART:20211031T010000
END:STANDARD
BEGIN:DAYLIGHT
TZOFFSETFROM:+0100
TZOFFSETTO:+0200
TZNAME:CEST
DTSTART:20220327T010000
END:DAYLIGHT
BEGIN:STANDARD
TZOFFSETFROM:+0200
TZOFFSETTO:+0100
TZNAME:CET
DTSTART:20221030T010000
END:STANDARD
BEGIN:DAYLIGHT
TZOFFSETFROM:+0100
TZOFFSETTO:+0200
TZNAME:CEST
DTSTART:20230326T010000
END:DAYLIGHT
BEGIN:STANDARD
TZOFFSETFROM:+0200
TZOFFSETTO:+0100
TZNAME:CET
DTSTART:20231029T010000
END:STANDARD
END:VTIMEZONE
BEGIN:VEVENT
DTSTART;TZID=Europe/Paris:20220904T073000
DTEND;TZID=Europe/Paris:20220904T120000
DTSTAMP:20260421T140418
CREATED:20220412T114552Z
LAST-MODIFIED:20220412T114552Z
UID:2877-1662276600-1662292800@ecsfontevraudmontsoreau.fr
SUMMARY:Randonnée Alexandre Dumas
DESCRIPTION:
URL:https://ecsfontevraudmontsoreau.fr/event/randonnee-alexandre-dumas/
LOCATION:Montsoreau\, Maison du Parc Naturel Régional Loire\, France
CATEGORIES:Randonnées VTT
END:VEVENT
BEGIN:VEVENT
DTSTART;TZID=Europe/Paris:20220907T083000
DTEND;TZID=Europe/Paris:20220907T120000
DTSTAMP:20260421T140418
CREATED:20220907T143047Z
LAST-MODIFIED:20220907T145354Z
UID:3785-1662539400-1662552000@ecsfontevraudmontsoreau.fr
SUMMARY:Sortie VTT Saumur
DESCRIPTION:
URL:https://ecsfontevraudmontsoreau.fr/event/sortie-vtt-saumur-3/
LOCATION:Piscine val de Thouet\, Boulevard de la Marne\, Saumur\, 49400\, France
CATEGORIES:Sorties VTT
END:VEVENT
BEGIN:VEVENT
DTSTART;TZID=Europe/Paris:20220914T083000
DTEND;TZID=Europe/Paris:20220914T120000
DTSTAMP:20260421T140418
CREATED:20220907T145007Z
LAST-MODIFIED:20220912T152528Z
UID:3788-1663144200-1663156800@ecsfontevraudmontsoreau.fr
SUMMARY:Sortie VTT Courchamps
DESCRIPTION:
URL:https://ecsfontevraudmontsoreau.fr/event/sortie-vtt-courchamps/
LOCATION:Courchamps\, Lavoir de la Fontaine Blanche\, Courchamps\, 49260\, France
CATEGORIES:Sorties VTT
END:VEVENT
BEGIN:VEVENT
DTSTART;TZID=Europe/Paris:20220921T140000
DTEND;TZID=Europe/Paris:20220921T170000
DTSTAMP:20260421T140418
CREATED:20220907T150755Z
LAST-MODIFIED:20220917T094013Z
UID:3798-1663768800-1663779600@ecsfontevraudmontsoreau.fr
SUMMARY:Sortie VTT Saix
DESCRIPTION:
URL:https://ecsfontevraudmontsoreau.fr/event/sortie-vtt-fontevraud-4/
LOCATION:Mairie de Saix\, Saix\, 86120
CATEGORIES:Sorties VTT
END:VEVENT
BEGIN:VEVENT
DTSTART;TZID=Europe/Paris:20220928T140000
DTEND;TZID=Europe/Paris:20220928T170000
DTSTAMP:20260421T140418
CREATED:20220907T145628Z
LAST-MODIFIED:20220922T140736Z
UID:3792-1664373600-1664384400@ecsfontevraudmontsoreau.fr
SUMMARY:Sortie VTT Saint Hilaire Saint Florent
DESCRIPTION:
URL:https://ecsfontevraudmontsoreau.fr/event/sortie-vtt-saumur-4/
LOCATION:Parking\, Société Nautique Saumur Aviron\, Saumur\, 49400\, France
CATEGORIES:Sorties VTT
END:VEVENT
END:VCALENDAR